BEGIN:VCALENDAR
VERSION:2.0
PRODID:-//Plone.org//NONSGML plone.app.event//EN
X-WR-TIMEZONE:Europe/Berlin
BEGIN:VEVENT
SUMMARY:RGB2R v18
DTSTART;VALUE=DATE:20181026
DTEND;VALUE=DATE:20181029
DTSTAMP;VALUE=DATE-TIME:20260425T145331Z
UID:e179ab4b38ab43ce9217b406a15e3a34@localhost:8090
CONTACT:https://www.rgb2r.de
CREATED;VALUE=DATE-TIME:20180924T081142Z
LAST-MODIFIED;VALUE=DATE-TIME:20180924T081148Z
LOCATION:Bürgerhaus Schlierbach
URL:https://www.nerd2nerd.org/events/rgb2r-v18
END:VEVENT
END:VCALENDAR
